BEGIN:VCALENDAR
VERSION:2.0
PRODID:-//ChamberMaster//Event Calendar 2.0//EN
METHOD:PUBLISH
X-PUBLISHED-TTL:P3D
REFRESH-INTERVAL:P3D
CALSCALE:GREGORIAN
BEGIN:VEVENT
DTSTART:20211211T140000Z
DTEND:20211211T200000Z
X-MICROSOFT-CDO-ALLDAYEVENT:FALSE
SUMMARY:Market Days in Palestine TX
DESCRIPTION:The Palestine Farmers Market brings the community together while showcasing unique\, crafty and gardening talent.
X-ALT-DESC;FMTTYPE=text/html:The Palestine Farmers Market brings the community together while showcasing unique\, crafty and gardening talent.
LOCATION:834 W. Spring St. Palestine\, TX 75801
UID:e.644.10334
SEQUENCE:3
DTSTAMP:20260421T221211Z
URL:https://members.palestinechamber.org/events/details/market-days-in-palestine-tx-12-11-2021-10334
END:VEVENT

END:VCALENDAR
