BEGIN:VCALENDAR
VERSION:2.0
PRODID:-//ChamberMaster//Event Calendar 2.0//EN
METHOD:PUBLISH
X-PUBLISHED-TTL:P3D
REFRESH-INTERVAL:P3D
CALSCALE:GREGORIAN
BEGIN:VEVENT
DTSTART:20250107T180000Z
DTEND:20250107T190000Z
X-MICROSOFT-CDO-ALLDAYEVENT:FALSE
SUMMARY:Alzheimer's Support Group
DESCRIPTION:Each month we host and provide lunch to the families who have loved ones effected by Alzheimer's and dementia. We have an amazing volunteer Alison Rader with Hospice of East Texas who has had extensive training\, who is there to answer questions or to listen to the new stage your loved one is in. She can help navigate the ups and downs that come with this disease process.
X-ALT-DESC;FMTTYPE=text/html:<span style="color: rgb(5\, 5\, 5)\; font-family: &quot\;Segoe UI Historic&quot\;\, &quot\;Segoe UI&quot\;\, Helvetica\, Arial\, sans-serif\; font-size: 15px\;">Each month we host and provide lunch to the families who have loved ones effected by Alzheimer&#39\;s and dementia. We have an amazing volunteer Alison Rader with Hospice of East Texas who has had extensive training\, who is there to answer questions or to listen to the new stage your loved one is in. She can help navigate the ups and downs that come with this disease process.</span>
LOCATION:Dogwood Trails Assisted Living- 1625 W. Spring St.
UID:e.644.13528
SEQUENCE:3
DTSTAMP:20260422T073132Z
URL:https://members.palestinechamber.org/events/details/alzheimer-s-support-group-01-07-2025-13528
END:VEVENT

END:VCALENDAR
