BEGIN:VCALENDAR
VERSION:2.0
PRODID:-//ChamberMaster//Event Calendar 2.0//EN
METHOD:PUBLISH
X-PUBLISHED-TTL:P3D
REFRESH-INTERVAL:P3D
CALSCALE:GREGORIAN
BEGIN:VEVENT
DTSTART:20240323T140000Z
DTEND:20240323T210000Z
X-MICROSOFT-CDO-ALLDAYEVENT:FALSE
SUMMARY:Dogwood Festival 2024
DESCRIPTION:Come join the fun at the 2024 Dogwood Festival!\n\nVendors\, Music\, Contests\, Food/Drinks\, Parade\, and so much more!\n\nWhat a fun way to spend the day with family!
X-ALT-DESC;FMTTYPE=text/html:Come join the fun at the 2024 Dogwood Festival!<br />\nVendors\, Music\, Contests\, Food/Drinks\, Parade\, and so much more!<br />\nWhat a fun way to spend the day with family!
LOCATION:Downtown Palestine
UID:e.644.12625
SEQUENCE:3
DTSTAMP:20260423T203759Z
URL:http://members.palestinechamber.org/events/details/dogwood-festival-2024-12625
END:VEVENT

END:VCALENDAR
