BEGIN:VCALENDAR
VERSION:2.0
PRODID:-//ChamberMaster//Event Calendar 2.0//EN
METHOD:PUBLISH
X-PUBLISHED-TTL:P3D
REFRESH-INTERVAL:P3D
CALSCALE:GREGORIAN
BEGIN:VEVENT
DTSTART:20220219T230000Z
DTEND:20220220T000000Z
X-MICROSOFT-CDO-ALLDAYEVENT:FALSE
SUMMARY:Annual Mardi Gras Parade
DESCRIPTION:Enjoy the beautiful floats during the Mardi Gras Parade.  Kids & family will enjoy the sights & sounds of this annual event.  Come early for a Taste of Mardi Gras with local Chef's presenting thier favorite Mardi Gras creations. \n\nTo enter the Parade\, please click the Register Now button for an application to be sent to you. Applications also available in the Chamber office.
X-ALT-DESC;FMTTYPE=text/html:<span style="font-size:16px\;"><span style="font-family:arial\;"><span style="color:black\;">Enjoy the beautiful floats during the Mardi Gras Parade.&nbsp\; Kids &amp\; family will enjoy the sights &amp\; sounds of this annual event.&nbsp\; Come early for a Taste of Mardi Gras with local Chef&#39\;s presenting thier favorite Mardi Gras creations.&nbsp\;<br />\n<span style="font-size:18px\;"><strong>To enter the Parade\, please click the Register Now button for an application to be sent to you. Applications also available in the Chamber office.&nbsp\;</strong></span></span></span></span>
LOCATION:The Parade will begin at the Anderson County Courthouse and make its way through beatiful Historic Downtown Palestine along W. Oak St.
UID:e.644.10971
SEQUENCE:3
DTSTAMP:20260422T035638Z
URL:http://members.palestinechamber.org/events/details/annual-mardi-gras-parade-10971
END:VEVENT

END:VCALENDAR
